BEGIN:VCALENDAR
VERSION:2.0
PRODID:-//wp-events-plugin.com//7.2.3.1//EN
TZID:Europe/Berlin
X-WR-TIMEZONE:Europe/Berlin
BEGIN:VEVENT
UID:374@bellabauch.de
DTSTART;TZID=Europe/Berlin:20260812T090000
DTEND;TZID=Europe/Berlin:20260916T110000
DTSTAMP:20260402T075338Z
URL:https://www.bellabauch.de/kurse/rueckbildung-mit-oder-ohne-baby-mary-l
 ouhybrid-4/
SUMMARY:Rückbildung mit oder ohne Baby (Mary-Lou)Hybrid
DESCRIPTION:Der Kurs findet in der Regel an 5 Terminen\nein mal pro Woche m
 ittwochs jeweils von 9 bis 11 Uhr statt.\nDer Kurs wird in Präsenz angeb
 oten. Es gibt die Möglichkeit den Kurs via Webinar/ Online zu besuchen. 
 \nWeitere Informationen dazu bekommt ihr via E-Mail in den Wochen vor dem 
 Kurs. \nDie zugehörigen AGBs für diesen Kurs findest du hier.\nHier die
  genauen Kursdaten:\n\n	\n\n	12.08.2026          9-11 Uhr\n	19.08.202
 6          9-11 Uhr\n	26.08.2026          9-11 Uhr\n	09.09.2026 
          9-11 Uhr \n	16.09.2026           9-11 Uhr\n\n\n
CATEGORIES:Mit oder ohne Babys
END:VEVENT
BEGIN:VTIMEZONE
TZID:Europe/Berlin
X-LIC-LOCATION:Europe/Berlin
BEGIN:DAYLIGHT
DTSTART:20260329T030000
TZOFFSETFROM:+0100
TZOFFSETTO:+0200
TZNAME:CEST
END:DAYLIGHT
END:VTIMEZONE
END:VCALENDAR