BEGIN:VCALENDAR
VERSION:2.0
PRODID:-//wp-events-plugin.com//7.2.3.1//EN
TZID:Europe/Berlin
X-WR-TIMEZONE:Europe/Berlin
BEGIN:VEVENT
UID:368@bellabauch.de
DTSTART;TZID=Europe/Berlin:20260605T090000
DTEND;TZID=Europe/Berlin:20260630T110000
DTSTAMP:20260413T132506Z
URL:https://www.bellabauch.de/kurse/rueckbildung-mit-kind-mit-hebamme-kata
 rina-40/
SUMMARY:Rückbildung mit Kind mit Hebamme Katarina
DESCRIPTION:Der Kurs findet in der Regel\n1x pro Woche dienstags statt.\n&n
 bsp\;\nDer Kurs wird in der Hebammenpraxis Bellabauch gehalten!\n Die zuge
 hörigen AGB`s für diesen Kurs findest du hier.\n&nbsp\;\nHier die genaue
 n Daten:\n05.06.2026 (Freitag)\n12.06.2026 (Freitag)\n16.06.2026\n23.06.20
 26\n30.06.2026\n&nbsp\;
CATEGORIES:Rückbildung mit Kind
END:VEVENT
BEGIN:VTIMEZONE
TZID:Europe/Berlin
X-LIC-LOCATION:Europe/Berlin
BEGIN:DAYLIGHT
DTSTART:20260329T030000
TZOFFSETFROM:+0100
TZOFFSETTO:+0200
TZNAME:CEST
END:DAYLIGHT
END:VTIMEZONE
END:VCALENDAR