BEGIN:VCALENDAR
VERSION:2.0
PRODID:-//wp-events-plugin.com//7.2.3.1//EN
TZID:Europe/Berlin
X-WR-TIMEZONE:Europe/Berlin
BEGIN:VEVENT
UID:270@bellabauch.de
DTSTART;TZID=Europe/Berlin:20240816T140000
DTEND;TZID=Europe/Berlin:20240920T160000
DTSTAMP:20240611T191103Z
URL:https://www.bellabauch.de/kurse/geburtsvorbereitungskurs-fuer-paare-17
 /
SUMMARY:Geburtsvorbereitungskurs für Paare
DESCRIPTION:Der Kurs findet in der Regel\n1x pro Woche freitags statt.\n&nb
 sp\;\nDer Kurs wird in der Hebammenpraxis Bellabauch gehalten!\nDie zugeh
 örigen AGB`s für diesen Kurs findest du hier.\n&nbsp\;\nHier die genauen
  Daten:\n16.08.2024 (ohne Partner*in)\n23.08.2024 (ohne Partner*in)\n30.08
 .2024 (mit Partner*in)\n06.09.2024 (mit Partner*in)\n13.09.2024 (mit Partn
 er*in - Vertreter von Papaseiten)\n20.09.2024 (mit Partner*in)\n&nbsp\;
CATEGORIES:Geburtsvorbereitungskurse,Paarkurs 6x
END:VEVENT
BEGIN:VTIMEZONE
TZID:Europe/Berlin
X-LIC-LOCATION:Europe/Berlin
BEGIN:DAYLIGHT
DTSTART:20240331T030000
TZOFFSETFROM:+0100
TZOFFSETTO:+0200
TZNAME:CEST
END:DAYLIGHT
END:VTIMEZONE
END:VCALENDAR